BEGIN:VCALENDAR
VERSION:2.0
PRODID:-//Plone.org//NONSGML plone.app.event//EN
X-WR-TIMEZONE:Europe/Vienna
BEGIN:VEVENT
SUMMARY:Opening Grüne Wäsche Wien
DTSTART;TZID=Europe/Vienna:20250613T190000
DTSTAMP:20260425T024231Z
UID:7f09071b04ff45d09b2c458b30c180fd@www.akbild.ac.at
CATEGORIES:Führungen / Veranstaltungen
CREATED:20250528T132851Z
DESCRIPTION:An exhibition by the Studio for Art and Image | Context in coo
 peration with KunstHausWien.  Out of respect for the victims of the horri
 fic act of violence in Graz\, the KunstHausWien summer festival on Friday\
 , June 13\, 2025\, has been canceled and postponed until fall. The opening
  of the exhibition will take place as planned at 19 h\, but without any fe
 stive activities.
LAST-MODIFIED:20250724T081318Z
URL:https://www.akbild.ac.at/en/institutes/fine-arts/events/exhibitions-di
 dactic-program/2025/grune-wasche-wien/opening-grune-wasche-wien
END:VEVENT
BEGIN:VTIMEZONE
TZID:Europe/Vienna
X-LIC-LOCATION:Europe/Vienna
BEGIN:DAYLIGHT
DTSTART:20250330T030000
TZNAME:CEST
TZOFFSETFROM:+0100
TZOFFSETTO:+0200
END:DAYLIGHT
END:VTIMEZONE
END:VCALENDAR
