BEGIN:VCALENDAR
VERSION:2.0
PRODID:-//Plone.org//NONSGML plone.app.event//EN
X-WR-TIMEZONE:Europe/Vienna
BEGIN:VEVENT
SUMMARY:Ukraine Now! – The role of culture\, the role of art\, music ...
 \, the role of young\, the role of club scene ...
DTSTART;TZID=Europe/Vienna:20140320T140000
DTSTAMP:20260424T043233Z
UID:b643738d60b5b4b3787652cb0d76eb24@www.akbild.ac.at
CATEGORIES:Vorträge / Veranstaltungen
CREATED:20220312T175114Z
DESCRIPTION:Guest lecture and talk by Zavoloka &amp\; Kotra [Kiev\, UA] or
 ganized by the Institute for Fine Arts\, Soundstudio\, co-moderated by Fra
 nz Pomassl and Boris Ondreička.
LAST-MODIFIED:20240802T103109Z
URL:https://www.akbild.ac.at/en/institutes/fine-arts/events/lectures-event
 s/2014/ukraine-now-2013-the-role-of-culture-the-role-of-art-music-the-role
 -of-young-the-role-of-club-scene
END:VEVENT
BEGIN:VTIMEZONE
TZID:Europe/Vienna
X-LIC-LOCATION:Europe/Vienna
BEGIN:STANDARD
DTSTART:20131027T020000
TZNAME:CET
TZOFFSETFROM:+0200
TZOFFSETTO:+0100
END:STANDARD
END:VTIMEZONE
END:VCALENDAR
