BEGIN:VCALENDAR
VERSION:2.0
PRODID:-//Plone.org//NONSGML plone.app.event//EN
X-WR-TIMEZONE:Europe/Vienna
BEGIN:VEVENT
SUMMARY:Lecture Saeri Kiritani\, Artist in Residence at the Academy of Fin
 e Arts Vienna
DTSTART;TZID=Europe/Vienna:20160602T183000
DTSTAMP:20260426T042454Z
UID:f65fb28618e737833245e1639c47ec37@www.akbild.ac.at
CATEGORIES:Vorträge / Veranstaltungen
CREATED:20220312T175131Z
DESCRIPTION:organized by the Studio of Figurative Painting\, Prof. Kirsi M
 ikkola
LAST-MODIFIED:20240802T103109Z
URL:https://www.akbild.ac.at/en/institutes/fine-arts/events/lectures-event
 s/2016/lecture-saeri-kiritani-artist-in-residence-at-the-academy-of-fine-a
 rts-vienna
END:VEVENT
BEGIN:VTIMEZONE
TZID:Europe/Vienna
X-LIC-LOCATION:Europe/Vienna
BEGIN:DAYLIGHT
DTSTART:20160327T030000
TZNAME:CEST
TZOFFSETFROM:+0100
TZOFFSETTO:+0200
END:DAYLIGHT
END:VTIMEZONE
END:VCALENDAR
