BEGIN:VCALENDAR
VERSION:2.0
PRODID:-//Plone.org//NONSGML plone.app.event//EN
X-WR-TIMEZONE:Europe/Vienna
BEGIN:VEVENT
SUMMARY:Artists talks: Đejmi Hadrović\, Bojana S. Knežević and Svetlan
 a Mi­rcheva
DTSTART;TZID=Europe/Vienna:20170321T180000
DTSTAMP:20260419T150448Z
UID:1a873eb20442ec4c2b42988fbce46a6f@www.akbild.ac.at
CREATED:20220312T175155Z
DESCRIPTION:Organized by Marina Grzinic\, PCAP-Post Conceptual Study Progr
 am (IBK).
LAST-MODIFIED:20240802T103105Z
URL:https://www.akbild.ac.at/en/institutes/fine-arts/events/lectures-event
 s/2017/artists-talks-dejmi-hadrovic-bojana-s.-knezevic-and-svetlana-miadrc
 heva
END:VEVENT
BEGIN:VTIMEZONE
TZID:Europe/Vienna
X-LIC-LOCATION:Europe/Vienna
BEGIN:STANDARD
DTSTART:20161030T020000
TZNAME:CET
TZOFFSETFROM:+0200
TZOFFSETTO:+0100
END:STANDARD
END:VTIMEZONE
END:VCALENDAR
