BEGIN:VCALENDAR
VERSION:2.0
PRODID:-//Plone.org//NONSGML plone.app.event//EN
X-WR-TIMEZONE:Europe/Vienna
BEGIN:VEVENT
SUMMARY:Uncensored - INTERNATIONAL FILM DAYS
DTSTART;VALUE=DATE:20170316
DTEND;VALUE=DATE:20170319
DTSTAMP:20260424T021610Z
UID:ab87a73b96e7f47c0217d9680efb7dd3@www.akbild.ac.at
CATEGORIES:Vorträge / Veranstaltungen
CREATED:20220312T175139Z
DESCRIPTION:Screenings of censored films with lectures and discussions.\n 
 \n Free admission on all days.\n \n \n The event is conceived by the Conce
 ptual Art (Post-Conceptual Art Practices) study program: Marina Gržinić\
 , Betül Küpeli\, Cansu Berksan with Tjaša Kancler\, Songül Sönmez\, A
 bidin Ertuğrul\, Nathalie Borgers\, Reha Refik Taşcı and Cana Bilir-Mei
 er\n\n\n Guests:\n \n  Nathalie Borgers\n \n (Vienna)\,\n \n  Sebestyén K
 odolányi\n \n (Budapest)\,\n \n  Gianfranco  Pannone\n \n (Rome)\,\n \n  
 belit sağ\n \n (Amsterdam /Turkey)\,\n \n  Marika Schmiedt\n \n (Vienna)
LAST-MODIFIED:20240802T103105Z
URL:https://www.akbild.ac.at/en/institutes/fine-arts/events/lectures-event
 s/2017/uncensored-international-filmdays
END:VEVENT
END:VCALENDAR
