BEGIN:VCALENDAR
VERSION:2.0
PRODID:-//Plone.org//NONSGML plone.app.event//EN
X-WR-TIMEZONE:Europe/Vienna
BEGIN:VEVENT
SUMMARY:The 'Other' Austria. Life in Austria beyond white male heteronorma
 tive German Catholic dominance
DTSTART;TZID=Europe/Vienna:20211214T180000
DTSTAMP:20260425T022503Z
UID:9947bc6d5769193d9dd48c25dd6d960e@www.akbild.ac.at
CATEGORIES:Vorträge / Veranstaltungen
CREATED:20220312T175244Z
DESCRIPTION:Book presentation Farid Hafez (ed.)\,\n  \n   The 'Other' Aust
 ria. Life in Austria beyond white male heteronormative German Catholic dom
 inance\n  \n  \, New Academic Press\, Vienna 2021.\n \n \n \n \n  Organise
 d by the Studio for Post-conceptual Art / IBK / Academy of Fine Arts Vienn
 a in cooperation with DEPOT - KUNST UND DISKUSSION\, Vienna.\n \n\n\n \n  
 Registration:\n  \n  \n \n \n  depot@depot.or.at
LAST-MODIFIED:20240802T103105Z
URL:https://www.akbild.ac.at/en/institutes/fine-arts/events/lectures-event
 s/2021/das-201aandere2018-oesterreich.-leben-in-oesterreich-abseits-maennl
 ich-weiss-heteronormativ-deutsch-katholischer-dominanz
END:VEVENT
BEGIN:VTIMEZONE
TZID:Europe/Vienna
X-LIC-LOCATION:Europe/Vienna
BEGIN:STANDARD
DTSTART:20211031T020000
TZNAME:CET
TZOFFSETFROM:+0200
TZOFFSETTO:+0100
END:STANDARD
END:VTIMEZONE
END:VCALENDAR
