BEGIN:VCALENDAR
VERSION:2.0
PRODID:-//Plone.org//NONSGML plone.app.event//EN
X-WR-TIMEZONE:Europe/Vienna
BEGIN:VEVENT
SUMMARY:Archival Love
DTSTART;TZID=Europe/Vienna:20220512T180000
DTEND;TZID=Europe/Vienna:20220512T200000
DTSTAMP:20260426T030434Z
UID:24a77de3c76e49b180290df392a8ff97@www.akbild.ac.at
CREATED:20220427T154111Z
DESCRIPTION:In the context of the lecture series IBK\, Studio of Performat
 ive Arts.
LAST-MODIFIED:20240802T103101Z
URL:https://www.akbild.ac.at/en/institutes/fine-arts/events/lectures-event
 s/2022/archival-love
END:VEVENT
BEGIN:VTIMEZONE
TZID:Europe/Vienna
X-LIC-LOCATION:Europe/Vienna
BEGIN:DAYLIGHT
DTSTART:20220327T030000
TZNAME:CEST
TZOFFSETFROM:+0100
TZOFFSETTO:+0200
END:DAYLIGHT
END:VTIMEZONE
END:VCALENDAR
