BEGIN:VCALENDAR
VERSION:2.0
PRODID:-//Plone.org//NONSGML plone.app.event//EN
X-WR-TIMEZONE:Europe/Vienna
BEGIN:VEVENT
SUMMARY:Drawing is political @ Kunsthalle Wien
DTSTART;TZID=Europe/Vienna:20220629T170000
DTSTAMP:20260424T125404Z
UID:0931430a49d7462db24272a821544c18@www.akbild.ac.at
CATEGORIES:Vorträge / Veranstaltungen
CREATED:20220329T144004Z
DESCRIPTION:The project Drawing is political was initiated in 2021 as a co
 ntemporary academic approach to practice a barrier-free artistic education
  and practices. Initiated by Veronika Dirnhofer\, Elke Krasny and Ruby Sir
 car.
LAST-MODIFIED:20240802T103101Z
URL:https://www.akbild.ac.at/en/institutes/fine-arts/events/lectures-event
 s/2022/drawing-is-political/drawing-is-political-kunsthalle-wien
END:VEVENT
BEGIN:VTIMEZONE
TZID:Europe/Vienna
X-LIC-LOCATION:Europe/Vienna
BEGIN:DAYLIGHT
DTSTART:20220327T030000
TZNAME:CEST
TZOFFSETFROM:+0100
TZOFFSETTO:+0200
END:DAYLIGHT
END:VTIMEZONE
END:VCALENDAR
