BEGIN:VCALENDAR
VERSION:2.0
PRODID:-//Plone.org//NONSGML plone.app.event//EN
X-WR-TIMEZONE:Europe/Vienna
BEGIN:VEVENT
SUMMARY:Gender and Space Workshop with Anne Glassner
DTSTART;TZID=Europe/Vienna:20221123T100000
DTEND;TZID=Europe/Vienna:20221123T130000
DTSTAMP:20260424T191709Z
UID:ec0a4371d1944ac5ab74bbdadfc1fdae@www.akbild.ac.at
CATEGORIES:Vorträge / Veranstaltungen
CREATED:20221110T122743Z
DESCRIPTION:The Gender and Space Workshops explore and develop approaches 
 to intervene in\, question or rework spatial orders\, which are always als
 o gender orders. The first workshop will be held by Anne Glassner.
LAST-MODIFIED:20240802T103105Z
URL:https://www.akbild.ac.at/en/institutes/fine-arts/events/lectures-event
 s/2022/gender-and-space-workshop-with-anne-glassner
END:VEVENT
BEGIN:VTIMEZONE
TZID:Europe/Vienna
X-LIC-LOCATION:Europe/Vienna
BEGIN:STANDARD
DTSTART:20221030T020000
TZNAME:CET
TZOFFSETFROM:+0200
TZOFFSETTO:+0100
END:STANDARD
END:VTIMEZONE
END:VCALENDAR
