BEGIN:VCALENDAR
VERSION:2.0
PRODID:-//Plone.org//NONSGML plone.app.event//EN
X-WR-TIMEZONE:Europe/Vienna
BEGIN:VEVENT
SUMMARY:The Digital Revolution is a Counter-Revolution
DTSTART;TZID=Europe/Vienna:20221117T180000
DTSTAMP:20260424T215531Z
UID:4896f31cf10541a5b9ca5404b50dd443@www.akbild.ac.at
CATEGORIES:Vorträge / Veranstaltungen
CREATED:20221103T101800Z
DESCRIPTION:Lecture by Dr. Joshua Simon (Israel) organized by the Studio f
 or Post-conceptual Art Practices/Prof. Marina Gržinić.
LAST-MODIFIED:20240802T103105Z
URL:https://www.akbild.ac.at/en/institutes/fine-arts/events/lectures-event
 s/2022/the-digital-revolution-is-a-counter-revolution
END:VEVENT
BEGIN:VTIMEZONE
TZID:Europe/Vienna
X-LIC-LOCATION:Europe/Vienna
BEGIN:STANDARD
DTSTART:20221030T020000
TZNAME:CET
TZOFFSETFROM:+0200
TZOFFSETTO:+0100
END:STANDARD
END:VTIMEZONE
END:VCALENDAR
