BEGIN:VCALENDAR
VERSION:2.0
PRODID:-//Plone.org//NONSGML plone.app.event//EN
X-WR-TIMEZONE:Europe/Vienna
BEGIN:VEVENT
SUMMARY:Uli Aigner: One Million
DTSTART;TZID=Europe/Vienna:20220609T180000
DTEND;TZID=Europe/Vienna:20220609T200000
DTSTAMP:20260424T034850Z
UID:a79e5d3a818b42508f0fb132808555a2@www.akbild.ac.at
CATEGORIES:Vorträge / Veranstaltungen
CREATED:20220516T095559Z
DESCRIPTION:Artist Talk with Uli Aigner as part of the lecture series Ring
 vorlesung at the Institute Fine Arts\, Workshop for Molding and Casting Te
 chniques.
LAST-MODIFIED:20240802T103105Z
URL:https://www.akbild.ac.at/en/institutes/fine-arts/events/lectures-event
 s/2022/uli-aigner-one-million
END:VEVENT
BEGIN:VTIMEZONE
TZID:Europe/Vienna
X-LIC-LOCATION:Europe/Vienna
BEGIN:DAYLIGHT
DTSTART:20220327T030000
TZNAME:CEST
TZOFFSETFROM:+0100
TZOFFSETTO:+0200
END:DAYLIGHT
END:VTIMEZONE
END:VCALENDAR
