BEGIN:VCALENDAR
VERSION:2.0
PRODID:-//Plone.org//NONSGML plone.app.event//EN
X-WR-TIMEZONE:Europe/Vienna
BEGIN:VEVENT
SUMMARY:Bridging Bodies\, Technology\, Theory\, and AI for Civic Resistanc
 e
DTSTART;TZID=Europe/Vienna:20231003T130000
DTEND;TZID=Europe/Vienna:20231003T170000
DTSTAMP:20260424T215531Z
UID:b2d02e26eb6d4c829137563179d1b2b3@www.akbild.ac.at
CATEGORIES:Konferenzen
CREATED:20230907T103456Z
DESCRIPTION:This symposium is part of the Ludic Method lecture series. The
  symposium is supported by the research project Conviviality as Potentiali
 ty (2021-2025)\, funded by Austrian Science Fund FWF: AR 679.
LAST-MODIFIED:20240802T103101Z
URL:https://www.akbild.ac.at/en/institutes/fine-arts/events/lectures-event
 s/2023/bridging-bodies-technology-theory-and-ai-for-civic-resistance
END:VEVENT
BEGIN:VTIMEZONE
TZID:Europe/Vienna
X-LIC-LOCATION:Europe/Vienna
BEGIN:DAYLIGHT
DTSTART:20230326T030000
TZNAME:CEST
TZOFFSETFROM:+0100
TZOFFSETTO:+0200
END:DAYLIGHT
END:VTIMEZONE
END:VCALENDAR
