BEGIN:VCALENDAR
VERSION:2.0
PRODID:-//Plone.org//NONSGML plone.app.event//EN
X-WR-TIMEZONE:Europe/Vienna
BEGIN:VEVENT
SUMMARY:Gender and Space Workshop with Cristina Dezi presented by Mz Balta
 zars Lab
DTSTART;TZID=Europe/Vienna:20231130T100000
DTSTAMP:20260426T033559Z
UID:1fc958bbd84f4eec9b0f83a9e2fc969a@www.akbild.ac.at
CATEGORIES:Vorträge / Veranstaltungen
CREATED:20231117T124503Z
DESCRIPTION:Organized by the Institute for Fine Arts\, studio for Gender a
 nd Space\, lecture in English.
LAST-MODIFIED:20240802T103101Z
URL:https://www.akbild.ac.at/en/institutes/fine-arts/events/lectures-event
 s/2023/gender-and-space-workshop-with-cristina-dezi-presented-by-mz-baltaz
 ars-lab
END:VEVENT
BEGIN:VTIMEZONE
TZID:Europe/Vienna
X-LIC-LOCATION:Europe/Vienna
BEGIN:STANDARD
DTSTART:20231029T020000
TZNAME:CET
TZOFFSETFROM:+0200
TZOFFSETTO:+0100
END:STANDARD
END:VTIMEZONE
END:VCALENDAR
