BEGIN:VCALENDAR
VERSION:2.0
PRODID:-//Plone.org//NONSGML plone.app.event//EN
X-WR-TIMEZONE:Europe/Vienna
BEGIN:VEVENT
SUMMARY:Götz Bury's Chamber of Wonders – A look behind the scenes
DTSTART;TZID=Europe/Vienna:20230525T180000
DTEND;TZID=Europe/Vienna:20230525T200000
DTSTAMP:20260422T115620Z
UID:b348418bbc484094becd4b6e3fce5236@www.akbild.ac.at
CATEGORIES:Vorträge / Veranstaltungen
CREATED:20230510T094641Z
DESCRIPTION:Lecture by Götz Bury as part of the IBK Lecture Series 2023\,
  organized by the Metalworking Workshop.
LAST-MODIFIED:20240802T103101Z
URL:https://www.akbild.ac.at/en/institutes/fine-arts/events/lectures-event
 s/2023/gotz-burys-chamber-of-wonders-a-look-behind-the-scenes
END:VEVENT
BEGIN:VTIMEZONE
TZID:Europe/Vienna
X-LIC-LOCATION:Europe/Vienna
BEGIN:DAYLIGHT
DTSTART:20230326T030000
TZNAME:CEST
TZOFFSETFROM:+0100
TZOFFSETTO:+0200
END:DAYLIGHT
END:VTIMEZONE
END:VCALENDAR
