BEGIN:VCALENDAR
VERSION:2.0
PRODID:-//Plone.org//NONSGML plone.app.event//EN
X-WR-TIMEZONE:Europe/Vienna
BEGIN:VEVENT
SUMMARY:Omer Krieger - Public Actions
DTSTART;TZID=Europe/Vienna:20231214T180000
DTSTAMP:20260424T103017Z
UID:7e0b20188ed845048b5a22a925971987@www.akbild.ac.at
CATEGORIES:Vorträge / Veranstaltungen
CREATED:20231204T133033Z
DESCRIPTION:Lecture by Omer Krieger as part of the IBK lecture series/Ring
 vorlesung\, organised by Eduard Freudmann
LAST-MODIFIED:20240802T103101Z
URL:https://www.akbild.ac.at/en/institutes/fine-arts/events/lectures-event
 s/2023/omer-krieger-public-actions
END:VEVENT
BEGIN:VTIMEZONE
TZID:Europe/Vienna
X-LIC-LOCATION:Europe/Vienna
BEGIN:STANDARD
DTSTART:20231029T020000
TZNAME:CET
TZOFFSETFROM:+0200
TZOFFSETTO:+0100
END:STANDARD
END:VTIMEZONE
END:VCALENDAR
