BEGIN:VCALENDAR
VERSION:2.0
PRODID:-//Plone.org//NONSGML plone.app.event//EN
X-WR-TIMEZONE:Europe/Vienna
BEGIN:VEVENT
SUMMARY:the_print_fest
DTSTART;VALUE=DATE:20231205
DTEND;VALUE=DATE:20240125
DTSTAMP:20260424T164036Z
UID:d166c3217d1740fa8b1736a4476f43a3@www.akbild.ac.at
CATEGORIES:Vorträge / Veranstaltungen
CREATED:20231107T075840Z
DESCRIPTION:the_print_fest is an open format of theworkshop for Intaglio P
 rinting to enable art related education\, tacit- and peer-learning experie
 nces\, and awareness of the divers works of cultural and artistic practice
 s\, in an open access setting. Opening on 5.12. at 17 h\, film screening a
 t 20:15 h.
LAST-MODIFIED:20240802T103101Z
URL:https://www.akbild.ac.at/en/institutes/fine-arts/events/lectures-event
 s/2023/the_print_fest
END:VEVENT
END:VCALENDAR
