BEGIN:VCALENDAR
VERSION:2.0
PRODID:-//Plone.org//NONSGML plone.app.event//EN
X-WR-TIMEZONE:Europe/Vienna
BEGIN:VEVENT
SUMMARY:Gender and Space Tour with Anna T. (curator) in the exhibition [em
 ]Close[t] Demonstrations\, an exhibition on the multitudes of queer invisi
 bility[/em]
DTSTART;TZID=Europe/Vienna:20231116T160000
DTSTAMP:20260423T114609Z
UID:ed6ebcdfb62b44558446252683f8326f@www.akbild.ac.at
CATEGORIES:Vorträge / Veranstaltungen
CREATED:20231102T121629Z
DESCRIPTION:An event organized by the studio of Gender and Space at the In
 stitute of Fine Arts. Lecture in English\nThe event series Gender and Spac
 e Tours/Talks/Workshops explores and develops approaches to intervene in s
 patial orders\, which are always also gender orders\, to question or rewor
 k them.
LAST-MODIFIED:20240802T103101Z
URL:https://www.akbild.ac.at/en/institutes/fine-arts/events/lectures-event
 s/2023/tour-with-anna-t-curator-in-the-exhibition-close-t-demonstrations-a
 n-exhibition-on-the-multitudes-of-queer-invisibility
END:VEVENT
BEGIN:VTIMEZONE
TZID:Europe/Vienna
X-LIC-LOCATION:Europe/Vienna
BEGIN:STANDARD
DTSTART:20231029T020000
TZNAME:CET
TZOFFSETFROM:+0200
TZOFFSETTO:+0100
END:STANDARD
END:VTIMEZONE
END:VCALENDAR
