BEGIN:VCALENDAR
VERSION:2.0
PRODID:-//Plone.org//NONSGML plone.app.event//EN
X-WR-TIMEZONE:Europe/Vienna
BEGIN:VEVENT
SUMMARY:Ulrike Hanstein: [em]Ein feministisches Curriculum: Überlieferung
 en des Woman’s Building (Los Angeles)[/em]
DTSTART;TZID=Europe/Vienna:20231212T180000
DTSTAMP:20260424T043133Z
UID:fa1dac2002fa47858244bf415bc890d0@www.akbild.ac.at
CATEGORIES:Vorträge / Veranstaltungen
CREATED:20231206T092209Z
DESCRIPTION:The lecture is organized in cooperation with the visiting prof
 essorship Gender and Space Dr. Romana Hagyo\, Institute for Fine Arts and 
 the professorship Art and Education Dr. Elke Krasny\, Institute for Educat
 ion in the Arts and takes place in the context of the lecture series Curre
 nt Positions in Gender Studies of the Austrian Society for Gender Studies
LAST-MODIFIED:20240802T103101Z
URL:https://www.akbild.ac.at/en/institutes/fine-arts/events/lectures-event
 s/2023/ulrike-hanstein-em-a-feminist-curriculum-traditions-of-the-womans-b
 uilding-los-angeles-em
END:VEVENT
BEGIN:VTIMEZONE
TZID:Europe/Vienna
X-LIC-LOCATION:Europe/Vienna
BEGIN:STANDARD
DTSTART:20231029T020000
TZNAME:CET
TZOFFSETFROM:+0200
TZOFFSETTO:+0100
END:STANDARD
END:VTIMEZONE
END:VCALENDAR
