BEGIN:VCALENDAR
VERSION:2.0
PRODID:-//Plone.org//NONSGML plone.app.event//EN
X-WR-TIMEZONE:Europe/Vienna
BEGIN:VEVENT
SUMMARY:Activism and Community Work
DTSTART;TZID=Europe/Vienna:20240213T180000
DTSTAMP:20260419T134427Z
UID:c47da7585dee4062998cf1a2918965be@www.akbild.ac.at
CATEGORIES:Vorträge / Veranstaltungen
CREATED:20240207T112447Z
DESCRIPTION:A talk with Henrie Dennis\, Mag.art\, from Afro Rainbow Austri
 a (ARA) about Institutional racism\, activism\, and community work.
LAST-MODIFIED:20240802T103057Z
URL:https://www.akbild.ac.at/en/institutes/fine-arts/events/lectures-event
 s/2024/activism-and-community-work
END:VEVENT
BEGIN:VTIMEZONE
TZID:Europe/Vienna
X-LIC-LOCATION:Europe/Vienna
BEGIN:STANDARD
DTSTART:20231029T020000
TZNAME:CET
TZOFFSETFROM:+0200
TZOFFSETTO:+0100
END:STANDARD
END:VTIMEZONE
END:VCALENDAR
