BEGIN:VCALENDAR
VERSION:2.0
PRODID:-//Plone.org//NONSGML plone.app.event//EN
X-WR-TIMEZONE:Europe/Vienna
BEGIN:VEVENT
SUMMARY:Brigitte Zika-Holoubek and the Names Project Vienna
DTSTART;TZID=Europe/Vienna:20241111T160000
DTEND;TZID=Europe/Vienna:20241111T180000
DTSTAMP:20260419T125046Z
UID:b452169e1e8348499eed237d5f815523@www.akbild.ac.at
CATEGORIES:Vorträge / Veranstaltungen
CREATED:20241105T084405Z
DESCRIPTION:An event organized within the seminar on "AIDS\, East Germany\
 , EU\, Global Capitalism\, and Hardcore Theory" with a focus on sexuality\
 , gender\, resistance\, and self-empowerment\, led by Marina Grzinic and E
 lisa R. Linn.
LAST-MODIFIED:20241105T084731Z
URL:https://www.akbild.ac.at/en/institutes/fine-arts/events/lectures-event
 s/2024/brigitte-zika-holoubek-and-the-names-project-vienna
END:VEVENT
BEGIN:VTIMEZONE
TZID:Europe/Vienna
X-LIC-LOCATION:Europe/Vienna
BEGIN:STANDARD
DTSTART:20241027T020000
TZNAME:CET
TZOFFSETFROM:+0200
TZOFFSETTO:+0100
END:STANDARD
END:VTIMEZONE
END:VCALENDAR
