BEGIN:VCALENDAR
VERSION:2.0
PRODID:-//Plone.org//NONSGML plone.app.event//EN
X-WR-TIMEZONE:Europe/Vienna
BEGIN:VEVENT
SUMMARY:Elisa R. Linn: Self-Organization from below to Strike the Border: 
 The Berlin Wall as a Condom
DTSTART;VALUE=DATE:20241202
DTEND;VALUE=DATE:20241204
DTSTAMP:20260423T162004Z
UID:585f47ddb26d4b82ac0333616b0f5bff@www.akbild.ac.at
CATEGORIES:Vorträge / Veranstaltungen
CREATED:20241121T151655Z
DESCRIPTION:Two public lectures are organized within the seminar AIDS\, Ea
 st Germany\, EU\, Global Capitalism\, and Hardcore Theory\, focusing on se
 xuality\, gender\, resistance\, migration\, and self-empowerment. The semi
 nar is led by Marina Gržinić and Elisa R. Linn.
LAST-MODIFIED:20241129T084309Z
URL:https://www.akbild.ac.at/en/institutes/fine-arts/events/lectures-event
 s/2024/elisa-r-linn-self-organization-from-below-to-strike-the-border-the-
 berlin-wall-as-a-condom
END:VEVENT
END:VCALENDAR
