BEGIN:VCALENDAR
VERSION:2.0
PRODID:-//Plone.org//NONSGML plone.app.event//EN
X-WR-TIMEZONE:Europe/Vienna
BEGIN:VEVENT
SUMMARY:Engaging with Complexities / The Need for Antisemitism
DTSTART;TZID=Europe/Vienna:20240417T190000
DTSTAMP:20260423T175811Z
UID:ce80f60c498841c595f0050be96373de@www.akbild.ac.at
CATEGORIES:Vorträge / Veranstaltungen
CREATED:20240411T074512Z
DESCRIPTION:The event is organized by a group of students\, teachers\, alu
 mni and artists who strive to point out and criticise antisemitism in the 
 art world.
LAST-MODIFIED:20240802T103057Z
URL:https://www.akbild.ac.at/en/institutes/fine-arts/events/lectures-event
 s/2024/engaging-with-complexities-the-need-for-antisemitism
END:VEVENT
BEGIN:VTIMEZONE
TZID:Europe/Vienna
X-LIC-LOCATION:Europe/Vienna
BEGIN:DAYLIGHT
DTSTART:20240331T030000
TZNAME:CEST
TZOFFSETFROM:+0100
TZOFFSETTO:+0200
END:DAYLIGHT
END:VTIMEZONE
END:VCALENDAR
