BEGIN:VCALENDAR
VERSION:2.0
PRODID:-//Plone.org//NONSGML plone.app.event//EN
X-WR-TIMEZONE:Europe/Vienna
BEGIN:VEVENT
SUMMARY:Lecture & Talk: Prof. Dr. Ruha Benjamin
DTSTART;TZID=Europe/Vienna:20241030T190000
DTSTAMP:20260419T132215Z
UID:44cc2d3f926a4b08b2956038532c6de4@www.akbild.ac.at
CATEGORIES:Vorträge / Veranstaltungen
CREATED:20240916T122607Z
DESCRIPTION:Lecture “Race to the Future? From Artificial Intelligence t
 o Abundant Imagination”.\nThis program takes place within the framework 
 and in cooperation with the following projects and partners: FWF-PEEK AR 6
 79 Conviviality as Potentiality\, Academy of Fine Arts Vienna\; Muslim*Con
 temporary by Salam Oida\; Coordination Office for the Advancement of Women
  | Gender Studies | Diversity\, Academy of Fine Arts Vienna\, Hauptbücher
 ei Wien.
LAST-MODIFIED:20241010T065038Z
URL:https://www.akbild.ac.at/en/institutes/fine-arts/events/lectures-event
 s/2024/lecture-talk-prof-dr-ruha-benjamin-muslim-contemporary
END:VEVENT
BEGIN:VTIMEZONE
TZID:Europe/Vienna
X-LIC-LOCATION:Europe/Vienna
BEGIN:STANDARD
DTSTART:20241027T020000
TZNAME:CET
TZOFFSETFROM:+0200
TZOFFSETTO:+0100
END:STANDARD
END:VTIMEZONE
END:VCALENDAR
