BEGIN:VCALENDAR
VERSION:2.0
PRODID:-//Plone.org//NONSGML plone.app.event//EN
X-WR-TIMEZONE:Europe/Vienna
BEGIN:VEVENT
SUMMARY:Talk and Panel
DTSTART;TZID=Europe/Vienna:20241022T170000
DTSTAMP:20260423T211148Z
UID:c6b0bd5133f841779ff0a548471316dd@www.akbild.ac.at
CATEGORIES:Vorträge / Veranstaltungen
CREATED:20240916T083830Z
DESCRIPTION:With Prof. Dr. Fatima El-Tayeb\, Yale University\, USA.This pr
 ogram takes place within the framework and in cooperation with the followi
 ng projects and partners: FWF-PEEK AR 679 Conviviality as Potentiality\, A
 cademy of Fine Arts Vienna\; Muslim*Contemporary by Salam Oida\; Coordinat
 ion Office for the Advancement of Women | Gender Studies | Diversity\, Aca
 demy of Fine Arts Vienna.
LAST-MODIFIED:20241009T083257Z
URL:https://www.akbild.ac.at/en/institutes/fine-arts/events/lectures-event
 s/2024/talk-and-panel-muslim-contemporary
END:VEVENT
BEGIN:VTIMEZONE
TZID:Europe/Vienna
X-LIC-LOCATION:Europe/Vienna
BEGIN:DAYLIGHT
DTSTART:20240331T030000
TZNAME:CEST
TZOFFSETFROM:+0100
TZOFFSETTO:+0200
END:DAYLIGHT
END:VTIMEZONE
END:VCALENDAR
