BEGIN:VCALENDAR
VERSION:2.0
PRODID:-//Plone.org//NONSGML plone.app.event//EN
X-WR-TIMEZONE:Europe/Vienna
BEGIN:VEVENT
SUMMARY:Who is afraid of class struggle? And some other behavior patterns
DTSTART;TZID=Europe/Vienna:20240411T180000
DTSTAMP:20260420T103634Z
UID:b73d06cbaea84befb8486d8ffd51e4e0@www.akbild.ac.at
CATEGORIES:Vorträge / Veranstaltungen
CREATED:20240325T195945Z
DESCRIPTION:Lecture by Sergio Zevallos\, Berlin and Lima\, as part of  th
 e IBK lectures organized by the studio for Art and Intervention | Concept\
 , Prof. Marina Grzinic.
LAST-MODIFIED:20240802T103057Z
URL:https://www.akbild.ac.at/en/institutes/fine-arts/events/lectures-event
 s/2024/who-is-afraid-of-class-struggle-and-some-other-behavior-patterns
END:VEVENT
BEGIN:VTIMEZONE
TZID:Europe/Vienna
X-LIC-LOCATION:Europe/Vienna
BEGIN:DAYLIGHT
DTSTART:20240331T030000
TZNAME:CEST
TZOFFSETFROM:+0100
TZOFFSETTO:+0200
END:DAYLIGHT
END:VTIMEZONE
END:VCALENDAR
