BEGIN:VCALENDAR
VERSION:2.0
PRODID:-//Plone.org//NONSGML plone.app.event//EN
X-WR-TIMEZONE:Europe/Vienna
BEGIN:VEVENT
SUMMARY:Book presentation Publication Series of the Academy Vol. 29 [em]Se
 xual Dissidences[/em]
DTSTART;TZID=Europe/Vienna:20250625T173000
DTSTAMP:20260423T064641Z
UID:389579262e17490599118f7273e01a27@www.akbild.ac.at
CATEGORIES:Vorträge / Veranstaltungen
CREATED:20250602T093248Z
DESCRIPTION:Presentation of the 29th volume of the Publication Series of t
 he Academy of Fine Arts Vienna.
LAST-MODIFIED:20250626T085802Z
URL:https://www.akbild.ac.at/en/institutes/fine-arts/events/lectures-event
 s/2025/book-presentation-publication-series-of-the-academy-vol-29-em-sexua
 l-dissidences-em
END:VEVENT
BEGIN:VTIMEZONE
TZID:Europe/Vienna
X-LIC-LOCATION:Europe/Vienna
BEGIN:DAYLIGHT
DTSTART:20250330T030000
TZNAME:CEST
TZOFFSETFROM:+0100
TZOFFSETTO:+0200
END:DAYLIGHT
END:VTIMEZONE
END:VCALENDAR
