BEGIN:VCALENDAR
VERSION:2.0
PRODID:-//Plone.org//NONSGML plone.app.event//EN
X-WR-TIMEZONE:Europe/Vienna
BEGIN:VEVENT
SUMMARY:Christoph Schwarz: Ach wär ich nur ein Auto
DTSTART;TZID=Europe/Vienna:20250617T170000
DTSTAMP:20260423T175819Z
UID:f20411d00a0646fda397494d7c9d87d2@www.akbild.ac.at
CATEGORIES:Vorträge / Veranstaltungen
CREATED:20250606T065217Z
DESCRIPTION:A workshop with Christoph Schwarz as part of the series »Zeic
 hnen ist politisch«\, concept by Veronika Dirnhofer and Ruby Sircar.
LAST-MODIFIED:20250611T072708Z
URL:https://www.akbild.ac.at/en/institutes/fine-arts/events/lectures-event
 s/2025/christoph-schwarz-ach-war-ich-nur-ein-auto
END:VEVENT
BEGIN:VTIMEZONE
TZID:Europe/Vienna
X-LIC-LOCATION:Europe/Vienna
BEGIN:DAYLIGHT
DTSTART:20250330T030000
TZNAME:CEST
TZOFFSETFROM:+0100
TZOFFSETTO:+0200
END:DAYLIGHT
END:VTIMEZONE
END:VCALENDAR
