BEGIN:VCALENDAR
VERSION:2.0
PRODID:-//Plone.org//NONSGML plone.app.event//EN
X-WR-TIMEZONE:Europe/Vienna
BEGIN:VEVENT
SUMMARY:Complexity of Ironies. Shadow\, Mantis and Cyborg.
DTSTART;VALUE=DATE:20250620
DTEND;VALUE=DATE:20250623
DTSTAMP:20260424T104244Z
UID:9f82c90356ac40d6be0ef2f3dc710d15@www.akbild.ac.at
CATEGORIES:Vorträge / Veranstaltungen
CREATED:20250611T120932Z
DESCRIPTION:Diploma project by Sunggu Hong at Prospekthof.
LAST-MODIFIED:20250612T072507Z
URL:https://www.akbild.ac.at/en/institutes/fine-arts/events/lectures-event
 s/2025/complexity-of-ironies-shadow-mantis-and-cyborg
END:VEVENT
END:VCALENDAR
