BEGIN:VCALENDAR
VERSION:2.0
PRODID:-//Plone.org//NONSGML plone.app.event//EN
X-WR-TIMEZONE:Europe/Vienna
BEGIN:VEVENT
SUMMARY:Hanna Schimek: Stadt Guerillas _ eine zeichnerische Bestandsaufnah
 me
DTSTART;TZID=Europe/Vienna:20250513T170000
DTEND;TZID=Europe/Vienna:20250513T190000
DTSTAMP:20260424T071654Z
UID:21872765a60b4307ac91d136b6ad15d1@www.akbild.ac.at
CATEGORIES:Workshops
CREATED:20250507T125539Z
DESCRIPTION:A workshop with Hanna Schimek as part of the series »Zeichnen
  ist politisch«\, concept by Veronika Dirnhofer and Ruby Sircar.
LAST-MODIFIED:20250507T125601Z
URL:https://www.akbild.ac.at/en/institutes/fine-arts/events/lectures-event
 s/2025/hanna-schimek-stadt-guerillas-_-eine-zeichnerische-bestandsaufnahme
END:VEVENT
BEGIN:VTIMEZONE
TZID:Europe/Vienna
X-LIC-LOCATION:Europe/Vienna
BEGIN:DAYLIGHT
DTSTART:20250330T030000
TZNAME:CEST
TZOFFSETFROM:+0100
TZOFFSETTO:+0200
END:DAYLIGHT
END:VTIMEZONE
END:VCALENDAR
