BEGIN:VCALENDAR
VERSION:2.0
PRODID:-//Plone.org//NONSGML plone.app.event//EN
X-WR-TIMEZONE:Europe/Vienna
BEGIN:VEVENT
SUMMARY:Flora Franke: Angeschwemmte Inseln
DTSTART;TZID=Europe/Vienna:20250411T130000
DTSTAMP:20260419T132240Z
UID:3dd43319ca714dbab6ff501f76ae0406@www.akbild.ac.at
CATEGORIES:Vorträge / Veranstaltungen
CREATED:20250408T111308Z
DESCRIPTION:A project of the Studio for Art and Time | Photography\, suppo
 rted by and in cooperation with KÖR - Art in Public Space Vienna.
LAST-MODIFIED:20250408T111325Z
URL:https://www.akbild.ac.at/en/institutes/fine-arts/events/lectures-event
 s/2025/invisible-waters-and-hidden-path/flora-franke-angeschwemmte-inseln
END:VEVENT
BEGIN:VTIMEZONE
TZID:Europe/Vienna
X-LIC-LOCATION:Europe/Vienna
BEGIN:DAYLIGHT
DTSTART:20250330T030000
TZNAME:CEST
TZOFFSETFROM:+0100
TZOFFSETTO:+0200
END:DAYLIGHT
END:VTIMEZONE
END:VCALENDAR
