BEGIN:VCALENDAR
VERSION:2.0
PRODID:-//Plone.org//NONSGML plone.app.event//EN
X-WR-TIMEZONE:Europe/Vienna
BEGIN:VEVENT
SUMMARY:Climate Psychology & Empowerment: From Knowledge to Action
DTSTART;TZID=Europe/Vienna:20251204T150000
DTSTAMP:20260424T132335Z
UID:4ecba6cf589a42e9a8f8b3bbfa7dc9b8@www.akbild.ac.at
CATEGORIES:Vorträge / Veranstaltungen
CREATED:20251112T100913Z
DESCRIPTION:Lecture by Alexandra Müller as part of the lecture series Lec
 tures For Future\, hosted by Rainer Prohaska.
LAST-MODIFIED:20251112T100934Z
URL:https://www.akbild.ac.at/en/institutes/fine-arts/events/lectures-event
 s/2025/lectures-for-future-1/climate-psychology-empowerment-from-knowledge
 -to-action
END:VEVENT
BEGIN:VTIMEZONE
TZID:Europe/Vienna
X-LIC-LOCATION:Europe/Vienna
BEGIN:STANDARD
DTSTART:20251026T020000
TZNAME:CET
TZOFFSETFROM:+0200
TZOFFSETTO:+0100
END:STANDARD
END:VTIMEZONE
END:VCALENDAR
