BEGIN:VCALENDAR
VERSION:2.0
PRODID:-//Plone.org//NONSGML plone.app.event//EN
X-WR-TIMEZONE:Europe/Vienna
BEGIN:VEVENT
SUMMARY:The Future that Never Arrives: Understanding Recurrent Dispossessi
 on and Temporal Distortion through Social Justice Art
DTSTART;TZID=Europe/Vienna:20250402T190000
DTSTAMP:20260424T171931Z
UID:bc33421baa2f4170b24d239746cfad48@www.akbild.ac.at
CATEGORIES:Vorträge / Veranstaltungen
CREATED:20250224T111924Z
DESCRIPTION:Open lecture by  Dr. Nomusa Makhubu at the Academy Fine Arts 
 Vienna\, organized in collaboration with the Erasmus+ project and the Acad
 emy of Fine Arts Vienna. Initiated by the Studio Art and Intervention\, Co
 ncept (Post-conceptual Art Practices)\, Prof. Marina Grzinic\, IBK\, Acade
 my of Fine Arts Vienna.
LAST-MODIFIED:20250224T112807Z
URL:https://www.akbild.ac.at/en/institutes/fine-arts/events/lectures-event
 s/2025/the-future-that-never-arrives
END:VEVENT
BEGIN:VTIMEZONE
TZID:Europe/Vienna
X-LIC-LOCATION:Europe/Vienna
BEGIN:DAYLIGHT
DTSTART:20250330T030000
TZNAME:CEST
TZOFFSETFROM:+0100
TZOFFSETTO:+0200
END:DAYLIGHT
END:VTIMEZONE
END:VCALENDAR
