BEGIN:VCALENDAR
VERSION:2.0
PRODID:-//Plone.org//NONSGML plone.app.event//EN
X-WR-TIMEZONE:Europe/Vienna
BEGIN:VEVENT
SUMMARY:Online Study Information Fine Arts Diploma program
DTSTART;TZID=Europe/Vienna:20260127T140000
DTSTAMP:20260423T045048Z
UID:4159560bce75460a8360ebd72d72995c@www.akbild.ac.at
CATEGORIES:Vorträge / Veranstaltungen
CREATED:20241219T140530Z
DESCRIPTION:Information and counselling on study program\, application and
  admission exam for the Diploma program in Fine Arts. No portfolio feedbac
 k! Q&amp\;A in English and German.
LAST-MODIFIED:20260107T152243Z
URL:https://www.akbild.ac.at/en/institutes/fine-arts/events/lectures-event
 s/2026/copy_of_online-study-information-fine-arts-diploma-program
END:VEVENT
BEGIN:VTIMEZONE
TZID:Europe/Vienna
X-LIC-LOCATION:Europe/Vienna
BEGIN:STANDARD
DTSTART:20251026T020000
TZNAME:CET
TZOFFSETFROM:+0200
TZOFFSETTO:+0100
END:STANDARD
END:VTIMEZONE
END:VCALENDAR
