BEGIN:VCALENDAR
VERSION:2.0
PRODID:-//Plone.org//NONSGML plone.app.event//EN
X-WR-TIMEZONE:Europe/Vienna
BEGIN:VEVENT
SUMMARY:Ines Doujak: WHY ARE THINGS AS THEY ARE?
DTSTART;TZID=Europe/Vienna:20260115T180000
DTSTAMP:20260423T031014Z
UID:5a15a57d32794c87b03bd2d4606ce6a8@www.akbild.ac.at
CATEGORIES:Vorträge / Veranstaltungen
CREATED:20260105T101240Z
DESCRIPTION:Ines Doujak will discuss her work and her newest projects - In
 vitation by the Studio for Art and Image | Drawing.
LAST-MODIFIED:20260107T143005Z
URL:https://www.akbild.ac.at/en/institutes/fine-arts/events/lectures-event
 s/2026/ines-doujak-why-are-things-as-they-are
END:VEVENT
BEGIN:VTIMEZONE
TZID:Europe/Vienna
X-LIC-LOCATION:Europe/Vienna
BEGIN:STANDARD
DTSTART:20251026T020000
TZNAME:CET
TZOFFSETFROM:+0200
TZOFFSETTO:+0100
END:STANDARD
END:VTIMEZONE
END:VCALENDAR
