BEGIN:VCALENDAR
VERSION:2.0
PRODID:-//Plone.org//NONSGML plone.app.event//EN
X-WR-TIMEZONE:Europe/Vienna
BEGIN:VEVENT
SUMMARY:Internal democratization as a basis for sustainable teaching and l
 earning
DTSTART;TZID=Europe/Vienna:20260325T150000
DTSTAMP:20260422T164236Z
UID:79ab90cf5f26419891b704e254a95be5@www.akbild.ac.at
CATEGORIES:Vorträge / Veranstaltungen
CREATED:20260312T125131Z
DESCRIPTION:A lecture by Nils Altner as part of the lecture series "Lectur
 es for Future".
LAST-MODIFIED:20260312T125228Z
URL:https://www.akbild.ac.at/en/institutes/fine-arts/events/lectures-event
 s/2026/lectures-for-future/internal-democratization-as-a-basis-for-sustain
 able-teaching-and-learning
END:VEVENT
BEGIN:VTIMEZONE
TZID:Europe/Vienna
X-LIC-LOCATION:Europe/Vienna
BEGIN:STANDARD
DTSTART:20251026T020000
TZNAME:CET
TZOFFSETFROM:+0200
TZOFFSETTO:+0100
END:STANDARD
END:VTIMEZONE
END:VCALENDAR
