BEGIN:VCALENDAR
VERSION:2.0
PRODID:-//Plone.org//NONSGML plone.app.event//EN
X-WR-TIMEZONE:Europe/Vienna
BEGIN:VEVENT
SUMMARY:What does climate protection have to do with peace?
DTSTART;TZID=Europe/Vienna:20260513T163000
DTSTAMP:20260421T210602Z
UID:624cebbdf41d417c9ee3944510f082af@www.akbild.ac.at
CATEGORIES:Vorträge / Veranstaltungen
CREATED:20260421T140752Z
DESCRIPTION:A lecture by Helga Kromp-Kolb as part of the lecture series Le
 ctures for Future.
LAST-MODIFIED:20260421T140818Z
URL:https://www.akbild.ac.at/en/institutes/fine-arts/events/lectures-event
 s/2026/lectures-for-future/what-does-climate-protection-have-to-do-with-pe
 ace
END:VEVENT
BEGIN:VTIMEZONE
TZID:Europe/Vienna
X-LIC-LOCATION:Europe/Vienna
BEGIN:DAYLIGHT
DTSTART:20260329T030000
TZNAME:CEST
TZOFFSETFROM:+0100
TZOFFSETTO:+0200
END:DAYLIGHT
END:VTIMEZONE
END:VCALENDAR
