BEGIN:VCALENDAR
VERSION:2.0
PRODID:-//Plone.org//NONSGML plone.app.event//EN
X-WR-TIMEZONE:Europe/Vienna
BEGIN:VEVENT
SUMMARY:Which futures can we (not yet) imagine? On arts-based methods and 
 shared climate-social visions
DTSTART;TZID=Europe/Vienna:20260318T150000
DTSTAMP:20260422T181548Z
UID:10529719b4564a049080704595230a2b@www.akbild.ac.at
CATEGORIES:Vorträge / Veranstaltungen
CREATED:20260312T123100Z
DESCRIPTION:A lecture by Eva-Maria Schitter\, Iris Laner and Maximilian Mu
 hr as part of the lecture series Lectures for Future.
LAST-MODIFIED:20260312T123315Z
URL:https://www.akbild.ac.at/en/institutes/fine-arts/events/lectures-event
 s/2026/lectures-for-future/which-futures-can-we-not-yet-imagine-on-arts-ba
 sed-methods-and-shared-climate-social-visions
END:VEVENT
BEGIN:VTIMEZONE
TZID:Europe/Vienna
X-LIC-LOCATION:Europe/Vienna
BEGIN:STANDARD
DTSTART:20251026T020000
TZNAME:CET
TZOFFSETFROM:+0200
TZOFFSETTO:+0100
END:STANDARD
END:VTIMEZONE
END:VCALENDAR
