BEGIN:VCALENDAR
VERSION:2.0
PRODID:-//Plone.org//NONSGML plone.app.event//EN
X-WR-TIMEZONE:Europe/Vienna
BEGIN:VEVENT
SUMMARY:titre provisoire (Cathleen Schuster and Marcel Dickhage): On wildc
 at strikes
DTSTART;TZID=Europe/Vienna:20260416T180000
DTEND;TZID=Europe/Vienna:20260416T200000
DTSTAMP:20260422T164225Z
UID:84de45c31a494d799046787c0f435fe6@www.akbild.ac.at
CATEGORIES:Vorträge / Veranstaltungen
CREATED:20260331T125452Z
DESCRIPTION:Lecture by titre provisoire (Cathleen Schuster and Marcel Dick
 hage) organized by wendelien van oldenborgh\, Studio Art and Intervention 
 | Concept\, as part of the lecture series by the Institute of Fine Arts.
LAST-MODIFIED:20260410T091124Z
URL:https://www.akbild.ac.at/en/institutes/fine-arts/titre-provisoire-cath
 leen-schuster-and-marcel-dickhage-on-wildcat-strikes
END:VEVENT
BEGIN:VTIMEZONE
TZID:Europe/Vienna
X-LIC-LOCATION:Europe/Vienna
BEGIN:DAYLIGHT
DTSTART:20260329T030000
TZNAME:CEST
TZOFFSETFROM:+0100
TZOFFSETTO:+0200
END:DAYLIGHT
END:VTIMEZONE
END:VCALENDAR
