BEGIN:VCALENDAR
VERSION:2.0
PRODID:-//Plone.org//NONSGML plone.app.event//EN
X-WR-TIMEZONE:Europe/Vienna
BEGIN:VEVENT
SUMMARY:Egypt\, Nubia\, and the Cyrenaica | Norbert Bittner's Imaginary Jo
 urney (1786–1851)
DTSTART;TZID=Europe/Vienna:20120119T190000
DTSTAMP:20260423T132123Z
UID:dfba12cfea4257c71648e1938b1103b4@www.akbild.ac.at
CREATED:20220312T190431Z
DESCRIPTION:Opening hours: Tue-Sun\, 10 am - 6 pm\, free entrance\n \n Spe
 cial opening hours during Open Days 2012\n \n 20. and 21.01.2012 10 am - 8
  pm
LAST-MODIFIED:20240802T103401Z
URL:https://www.akbild.ac.at/en/museum-and-exhibitions/Exhibit/exhibitions
 -events/current-exhibitions/2012/egypt-nubia-and-the-cyrenaica-norbert-bit
 tner-s-imaginary-journey/SubEvent
END:VEVENT
BEGIN:VTIMEZONE
TZID:Europe/Vienna
X-LIC-LOCATION:Europe/Vienna
BEGIN:STANDARD
DTSTART:20111030T020000
TZNAME:CET
TZOFFSETFROM:+0200
TZOFFSETTO:+0100
END:STANDARD
END:VTIMEZONE
END:VCALENDAR
