BEGIN:VCALENDAR
VERSION:2.0
PRODID:-//Plone.org//NONSGML plone.app.event//EN
X-WR-TIMEZONE:Europe/Vienna
BEGIN:VEVENT
SUMMARY:xposit / one twelve. The Alumni Exhibition Series at the Academy o
 f Fine Arts Vienna
DTSTART;VALUE=DATE:20120330
DTEND;VALUE=DATE:20120331
DTSTAMP:20260419T165337Z
UID:ae43d2bacdb0ee1451ed2bc7aab7540e@www.akbild.ac.at
CATEGORIES:Ausstellungen
CREATED:20220312T190508Z
DESCRIPTION:With the new alumni exhibition series xposit\, each semester a
 lumni recommended by professors at the Academy will present changing exhib
 itions in the rooms of the Rectorate. The series will start off with three
  artists: Sarah Kienpointner\, Jörg Reissner\, Anneliese Schrenk.
LAST-MODIFIED:20240802T103401Z
URL:https://www.akbild.ac.at/en/museum-and-exhibitions/Exhibit/exhibitions
 -events/current-exhibitions/2012/xposit-the-alumni-exhibition-series-at-th
 e-academy-of-fine-arts-vienna
END:VEVENT
END:VCALENDAR
