BEGIN:VCALENDAR
VERSION:2.0
PRODID:-//Plone.org//NONSGML plone.app.event//EN
X-WR-TIMEZONE:Europe/Vienna
BEGIN:VEVENT
SUMMARY:xposit / one fourteen. The Alumni Exhibition Series at the Academy
  of Fine Arts Vienna
DTSTART;TZID=Europe/Vienna:20140404T130000
DTEND;TZID=Europe/Vienna:20140404T150000
DTSTAMP:20260423T162338Z
UID:dab52bb92faf31d75db213c47837b2be@www.akbild.ac.at
CREATED:20220312T190637Z
LAST-MODIFIED:20240802T103401Z
URL:https://www.akbild.ac.at/en/museum-and-exhibitions/Exhibit/exhibitions
 -events/current-exhibitions/2014/xposit-one-fourteen-the-alumni-exhibition
 -series-at-the-academy-of-fine-arts-vienna/SubEvent
END:VEVENT
BEGIN:VTIMEZONE
TZID:Europe/Vienna
X-LIC-LOCATION:Europe/Vienna
BEGIN:DAYLIGHT
DTSTART:20140330T030000
TZNAME:CEST
TZOFFSETFROM:+0100
TZOFFSETTO:+0200
END:DAYLIGHT
END:VTIMEZONE
END:VCALENDAR
