BEGIN:VCALENDAR
VERSION:2.0
PRODID:-//Plone.org//NONSGML plone.app.event//EN
X-WR-TIMEZONE:Europe/Vienna
BEGIN:VEVENT
SUMMARY:Infrastructural Writing for Troubling Times
DTSTART;TZID=Europe/Vienna:20220503T160000
DTEND;TZID=Europe/Vienna:20220503T180000
DTSTAMP:20260421T135942Z
UID:526e919dd22f405ebc81000458a3aa94@www.akbild.ac.at
CATEGORIES:Vorträge / Veranstaltungen
CREATED:20220405T045810Z
DESCRIPTION:In context of the exhibition Conditions and Frameworks: Infras
 tructure as Form and Medium
LAST-MODIFIED:20240802T103353Z
URL:https://www.akbild.ac.at/en/museum-and-exhibitions/Exhibit/exhibitions
 -events/current-exhibitions/2022/einrichtung-und-gegebenheit-infrastruktur
 -als-form-und-handlung/copy_of_infrastructural-writing-for-troubling-times
 -1
END:VEVENT
BEGIN:VTIMEZONE
TZID:Europe/Vienna
X-LIC-LOCATION:Europe/Vienna
BEGIN:DAYLIGHT
DTSTART:20220327T030000
TZNAME:CEST
TZOFFSETFROM:+0100
TZOFFSETTO:+0200
END:DAYLIGHT
END:VTIMEZONE
END:VCALENDAR
