BEGIN:VCALENDAR
VERSION:2.0
PRODID:-//Plone.org//NONSGML plone.app.event//EN
X-WR-TIMEZONE:Europe/Vienna
BEGIN:VEVENT
SUMMARY:Feminist Infrastructural Critique
DTSTART;TZID=Europe/Vienna:20220514T150000
DTEND;TZID=Europe/Vienna:20220514T200000
DTSTAMP:20260421T154133Z
UID:59d31a9de50441ffb1d9c6819d296499@www.akbild.ac.at
CATEGORIES:Vorträge / Veranstaltungen
CREATED:20220505T090458Z
DESCRIPTION:A symposium as part of the exhibition [em]Conditions and Frame
 works. Infrastructure as Form and Medium[/em] with lectures by Carla Bobad
 illa\, Francesca Brusa and Giulia Gabrielli\, Miriam Kreuzer\, Sophie Ling
 g\, Claudia Lomoschitz\, Carlota Mir\, Verónica Orsi and Sylvia Sadzinski
 . Moderated by Sabeth Buchmann and Elke Krasny.
LAST-MODIFIED:20240802T103353Z
URL:https://www.akbild.ac.at/en/museum-and-exhibitions/Exhibit/exhibitions
 -events/current-exhibitions/2022/einrichtung-und-gegebenheit-infrastruktur
 -als-form-und-handlung/feminist-infrastructural-critique
END:VEVENT
BEGIN:VTIMEZONE
TZID:Europe/Vienna
X-LIC-LOCATION:Europe/Vienna
BEGIN:DAYLIGHT
DTSTART:20220327T030000
TZNAME:CEST
TZOFFSETFROM:+0100
TZOFFSETTO:+0200
END:DAYLIGHT
END:VTIMEZONE
END:VCALENDAR
