BEGIN:VCALENDAR
VERSION:2.0
PRODID:-//Plone.org//NONSGML plone.app.event//EN
X-WR-TIMEZONE:Europe/Vienna
BEGIN:VEVENT
SUMMARY:Infra-thin and Infrastructure
DTSTART;TZID=Europe/Vienna:20220513T180000
DTEND;TZID=Europe/Vienna:20220513T190000
DTSTAMP:20260426T040318Z
UID:f7c66188fb714a829bda5e0f5f827540@www.akbild.ac.at
CATEGORIES:Vorträge / Veranstaltungen
CREATED:20220505T094640Z
DESCRIPTION:A discussion in the context of the exhibition [em]Conditions a
 nd Frameworks: Infrastructure as Form and Medium[/em] with Paula Strunden\
 , Angelika Schnell\, Sabeth Buchmann and Martin Beck.
LAST-MODIFIED:20240802T103353Z
URL:https://www.akbild.ac.at/en/museum-and-exhibitions/Exhibit/exhibitions
 -events/current-exhibitions/2022/einrichtung-und-gegebenheit-infrastruktur
 -als-form-und-handlung/infra-thin-and-infrastructure
END:VEVENT
BEGIN:VTIMEZONE
TZID:Europe/Vienna
X-LIC-LOCATION:Europe/Vienna
BEGIN:DAYLIGHT
DTSTART:20220327T030000
TZNAME:CEST
TZOFFSETFROM:+0100
TZOFFSETTO:+0200
END:DAYLIGHT
END:VTIMEZONE
END:VCALENDAR
