BEGIN:VCALENDAR
VERSION:2.0
PRODID:-//Plone.org//NONSGML plone.app.event//EN
X-WR-TIMEZONE:Europe/Vienna
BEGIN:VEVENT
SUMMARY:Inka Meißner und Rachal Bradley: Indebted Vision
DTSTART;TZID=Europe/Vienna:20220513T190000
DTEND;TZID=Europe/Vienna:20220513T200000
DTSTAMP:20260421T160656Z
UID:4b64a3e9ed3442e0af7a9c10571ab497@www.akbild.ac.at
CATEGORIES:Vorträge / Veranstaltungen
CREATED:20220505T092138Z
DESCRIPTION:Drawing on research and reference material\, artists Rachal Br
 adley and Inka Meißner discuss their idea of the operation of indebted vi
 sion. A video work\, produced for the event\, gives an insight in their th
 eory\, that will be also discussed with regard to the exhibition [em]Condi
 tions and Frameworks: Infrastructure as Form and Medium[/em].
LAST-MODIFIED:20240802T103353Z
URL:https://www.akbild.ac.at/en/museum-and-exhibitions/Exhibit/exhibitions
 -events/current-exhibitions/2022/einrichtung-und-gegebenheit-infrastruktur
 -als-form-und-handlung/inka-meissner-und-rachal-bradley-indebted-vision
END:VEVENT
BEGIN:VTIMEZONE
TZID:Europe/Vienna
X-LIC-LOCATION:Europe/Vienna
BEGIN:DAYLIGHT
DTSTART:20220327T030000
TZNAME:CEST
TZOFFSETFROM:+0100
TZOFFSETTO:+0200
END:DAYLIGHT
END:VTIMEZONE
END:VCALENDAR
