BEGIN:VCALENDAR
VERSION:2.0
PRODID:-//Plone.org//NONSGML plone.app.event//EN
X-WR-TIMEZONE:Europe/Vienna
BEGIN:VEVENT
SUMMARY:Isabelle Graw. The Changing Grounds of Value
DTSTART;TZID=Europe/Vienna:20220426T193000
DTSTAMP:20260425T151609Z
UID:8f1b1b9bcfab460baa587c9410f99e24@www.akbild.ac.at
CATEGORIES:Vorträge / Veranstaltungen
CREATED:20220404T161225Z
DESCRIPTION:An event in context of the exhibition Conditions and Framework
 s: Infrastructure as Form and Medium
LAST-MODIFIED:20240802T103353Z
URL:https://www.akbild.ac.at/en/museum-and-exhibitions/Exhibit/exhibitions
 -events/current-exhibitions/2022/einrichtung-und-gegebenheit-infrastruktur
 -als-form-und-handlung/isabelle-graw-the-changing-grounds-of-value
END:VEVENT
BEGIN:VTIMEZONE
TZID:Europe/Vienna
X-LIC-LOCATION:Europe/Vienna
BEGIN:DAYLIGHT
DTSTART:20220327T030000
TZNAME:CEST
TZOFFSETFROM:+0100
TZOFFSETTO:+0200
END:DAYLIGHT
END:VTIMEZONE
END:VCALENDAR
