BEGIN:VCALENDAR
VERSION:2.0
PRODID:-//Plone.org//NONSGML plone.app.event//EN
X-WR-TIMEZONE:Europe/Vienna
BEGIN:VEVENT
SUMMARY:Opening Exhibit Studio
DTSTART;TZID=Europe/Vienna:20220712T180000
DTSTAMP:20260425T212603Z
UID:49dfbeb55bc8419f951ece76459510d5@www.akbild.ac.at
CATEGORIES:Vorträge / Veranstaltungen
CREATED:20220702T161311Z
DESCRIPTION:Exhibit Studio opens its newest exhibition with performances b
 y Anne Schmidt and Rebecca Rothenborg.\nThe exhibition shows works by Kris
 tina Kusmina Dreit\, Jackie Grassmann\, Ferhat İlhan\, Hanne Jannasch und
  Isabell Alexandra Meldner\, Seung Yeon Jung\, Irene Landa\, Rogine Moradi
 \, Rebecca Rothenborg\, Anne Schmidt\, Olga Shapovalova\, Natalia Gurova a
 nd Vik Bayer.
LAST-MODIFIED:20240802T103353Z
URL:https://www.akbild.ac.at/en/museum-and-exhibitions/Exhibit/exhibitions
 -events/current-exhibitions/2022/how-thick-is-the-layer-of-butter-on-your-
 bread/opening-exhibit-studio
END:VEVENT
BEGIN:VTIMEZONE
TZID:Europe/Vienna
X-LIC-LOCATION:Europe/Vienna
BEGIN:DAYLIGHT
DTSTART:20220327T030000
TZNAME:CEST
TZOFFSETFROM:+0100
TZOFFSETTO:+0200
END:DAYLIGHT
END:VTIMEZONE
END:VCALENDAR
