BEGIN:VCALENDAR
VERSION:2.0
PRODID:-//Plone.org//NONSGML plone.app.event//EN
X-WR-TIMEZONE:Europe/Vienna
BEGIN:VEVENT
SUMMARY:XR-Tour [em]Infra-thin Magick[/em]
DTSTART;TZID=Europe/Vienna:20221007T140000
DTEND;TZID=Europe/Vienna:20221009T180000
DTSTAMP:20260424T175802Z
UID:055ad1459f534730852edf05dac97815@www.akbild.ac.at
CATEGORIES:Vorträge / Veranstaltungen
CREATED:20220702T154935Z
DESCRIPTION:Paula Strunden guides into the space between physical and virt
 ual reality in her Extended Reality (XR) installation presented at Exhibit
  Gallery.
LAST-MODIFIED:20240802T103353Z
URL:https://www.akbild.ac.at/en/museum-and-exhibitions/Exhibit/exhibitions
 -events/current-exhibitions/2022/speculative-fiction/xr-tour-em-infra-thin
 -magick-em
END:VEVENT
BEGIN:VTIMEZONE
TZID:Europe/Vienna
X-LIC-LOCATION:Europe/Vienna
BEGIN:DAYLIGHT
DTSTART:20220327T030000
TZNAME:CEST
TZOFFSETFROM:+0100
TZOFFSETTO:+0200
END:DAYLIGHT
END:VTIMEZONE
END:VCALENDAR
