BEGIN:VCALENDAR
VERSION:2.0
PRODID:-//Plone.org//NONSGML plone.app.event//EN
X-WR-TIMEZONE:Europe/Vienna
BEGIN:VEVENT
SUMMARY:[de]Performative Setzung zur Erbse[/de]
DTSTART;TZID=Europe/Vienna:20220525T160000
DTEND;TZID=Europe/Vienna:20220525T180000
DTSTAMP:20260423T000054Z
UID:33e6e7ef3f2f4928a02da339f2bf892a@www.akbild.ac.at
CATEGORIES:Vorträge / Veranstaltungen
CREATED:20220428T082900Z
DESCRIPTION:Movement Writing Research
LAST-MODIFIED:20240802T103353Z
URL:https://www.akbild.ac.at/en/museum-and-exhibitions/Exhibit/exhibitions
 -events/current-exhibitions/2022/spheres-and-cones/de-performative-setzung
 -zur-erbse-de
END:VEVENT
BEGIN:VTIMEZONE
TZID:Europe/Vienna
X-LIC-LOCATION:Europe/Vienna
BEGIN:DAYLIGHT
DTSTART:20220327T030000
TZNAME:CEST
TZOFFSETFROM:+0100
TZOFFSETTO:+0200
END:DAYLIGHT
END:VTIMEZONE
END:VCALENDAR
