BEGIN:VCALENDAR
VERSION:2.0
PRODID:-//Plone.org//NONSGML plone.app.event//EN
X-WR-TIMEZONE:Europe/Vienna
BEGIN:VEVENT
SUMMARY:Walk and Talk
DTSTART;TZID=Europe/Vienna:20220512T153000
DTEND;TZID=Europe/Vienna:20220512T163000
DTSTAMP:20260423T012957Z
UID:11dd99b3e2df4e36a991a210d1c4e7d3@www.akbild.ac.at
CATEGORIES:Vorträge / Veranstaltungen
CREATED:20220429T164523Z
DESCRIPTION:Tour through the discursive lab of [em]Spheres and Cones: Pla
 nts as Practitioners[/em]
LAST-MODIFIED:20240802T103353Z
URL:https://www.akbild.ac.at/en/museum-and-exhibitions/Exhibit/exhibitions
 -events/current-exhibitions/2022/spheres-and-cones/em-walk-and-talk-em
END:VEVENT
BEGIN:VTIMEZONE
TZID:Europe/Vienna
X-LIC-LOCATION:Europe/Vienna
BEGIN:DAYLIGHT
DTSTART:20220327T030000
TZNAME:CEST
TZOFFSETFROM:+0100
TZOFFSETTO:+0200
END:DAYLIGHT
END:VTIMEZONE
END:VCALENDAR
